BEGIN:VCALENDAR
VERSION:2.0
PRODID:-//easysuccess - ECPv6.15.20//NONSGML v1.0//EN
CALSCALE:GREGORIAN
METHOD:PUBLISH
X-WR-CALNAME:easysuccess
X-ORIGINAL-URL:https://www.easysuccess.fr
X-WR-CALDESC:Évènements pour easysuccess
REFRESH-INTERVAL;VALUE=DURATION:PT1H
X-Robots-Tag:noindex
X-PUBLISHED-TTL:PT1H
BEGIN:VTIMEZONE
TZID:Europe/Paris
BEGIN:DAYLIGHT
TZOFFSETFROM:+0100
TZOFFSETTO:+0200
TZNAME:CEST
DTSTART:20240331T010000
END:DAYLIGHT
BEGIN:STANDARD
TZOFFSETFROM:+0200
TZOFFSETTO:+0100
TZNAME:CET
DTSTART:20241027T010000
END:STANDARD
BEGIN:DAYLIGHT
TZOFFSETFROM:+0100
TZOFFSETTO:+0200
TZNAME:CEST
DTSTART:20250330T010000
END:DAYLIGHT
BEGIN:STANDARD
TZOFFSETFROM:+0200
TZOFFSETTO:+0100
TZNAME:CET
DTSTART:20251026T010000
END:STANDARD
BEGIN:DAYLIGHT
TZOFFSETFROM:+0100
TZOFFSETTO:+0200
TZNAME:CEST
DTSTART:20260329T010000
END:DAYLIGHT
BEGIN:STANDARD
TZOFFSETFROM:+0200
TZOFFSETTO:+0100
TZNAME:CET
DTSTART:20261025T010000
END:STANDARD
BEGIN:DAYLIGHT
TZOFFSETFROM:+0100
TZOFFSETTO:+0200
TZNAME:CEST
DTSTART:20270328T010000
END:DAYLIGHT
BEGIN:STANDARD
TZOFFSETFROM:+0200
TZOFFSETTO:+0100
TZNAME:CET
DTSTART:20271031T010000
END:STANDARD
END:VTIMEZONE
BEGIN:VEVENT
DTSTART;VALUE=DATE:20251222
DTEND;VALUE=DATE:20260124
DTSTAMP:20260425T175659
CREATED:20260114T082620Z
LAST-MODIFIED:20260114T082620Z
UID:5417-1766361600-1769212799@www.easysuccess.fr
SUMMARY:TFP APS
DESCRIPTION:
URL:https://www.easysuccess.fr/event/tfp-aps-3/
CATEGORIES:TFP APS
END:VEVENT
BEGIN:VEVENT
DTSTART;VALUE=DATE:20251224
DTEND;VALUE=DATE:20260109
DTSTAMP:20260425T175659
CREATED:20260113T152425Z
LAST-MODIFIED:20260113T152425Z
UID:5397-1766534400-1767916799@www.easysuccess.fr
SUMMARY:SSIAP 1
DESCRIPTION:
URL:https://www.easysuccess.fr/event/ssiap-1/
CATEGORIES:SSIAP 1
END:VEVENT
BEGIN:VEVENT
DTSTART;VALUE=DATE:20260105
DTEND;VALUE=DATE:20260207
DTSTAMP:20260425T175659
CREATED:20260114T083121Z
LAST-MODIFIED:20260114T083121Z
UID:5419-1767571200-1770422399@www.easysuccess.fr
SUMMARY:TFP APS
DESCRIPTION:
URL:https://www.easysuccess.fr/event/tfp-aps-4/
CATEGORIES:TFP APS
END:VEVENT
BEGIN:VEVENT
DTSTART;VALUE=DATE:20260119
DTEND;VALUE=DATE:20260121
DTSTAMP:20260425T175659
CREATED:20260113T152505Z
LAST-MODIFIED:20260113T152505Z
UID:5399-1768780800-1768953599@www.easysuccess.fr
SUMMARY:SST
DESCRIPTION:
URL:https://www.easysuccess.fr/event/sst-7/
CATEGORIES:SST
END:VEVENT
BEGIN:VEVENT
DTSTART;VALUE=DATE:20260119
DTEND;VALUE=DATE:20260123
DTSTAMP:20260425T175659
CREATED:20260114T093339Z
LAST-MODIFIED:20260114T093339Z
UID:5425-1768780800-1769126399@www.easysuccess.fr
SUMMARY:MAC APS
DESCRIPTION:
URL:https://www.easysuccess.fr/event/mac-aps-8/
CATEGORIES:MAC APS
END:VEVENT
BEGIN:VEVENT
DTSTART;TZID=Europe/Paris:20260121T080000
DTEND;TZID=Europe/Paris:20260203T170000
DTSTAMP:20260425T175659
CREATED:20260113T152913Z
LAST-MODIFIED:20260113T152913Z
UID:5407-1768982400-1770138000@www.easysuccess.fr
SUMMARY:SSIAP 1
DESCRIPTION:
URL:https://www.easysuccess.fr/event/ssiap-1-2/
CATEGORIES:SSIAP 1
END:VEVENT
BEGIN:VEVENT
DTSTART;VALUE=DATE:20260126
DTEND;VALUE=DATE:20260228
DTSTAMP:20260425T175659
CREATED:20260114T084734Z
LAST-MODIFIED:20260114T084734Z
UID:5421-1769385600-1772236799@www.easysuccess.fr
SUMMARY:TFP APS
DESCRIPTION:
URL:https://www.easysuccess.fr/event/tfp-aps-5/
CATEGORIES:TFP APS
END:VEVENT
END:VCALENDAR